BEGIN:VCALENDAR
VERSION:2.0
PRODID:-//wp-events-plugin.com//7.2.3.1//EN
BEGIN:VEVENT
UID:22@sbgraypanthers.org
DTSTART:20230815T170000Z
DTEND:20230815T190000Z
DTSTAMP:20230904T210255Z
URL:https://www.sbgraypanthers.org/sbgpn-events/extreme-heat-forum/
SUMMARY:Extreme Heat Forum
DESCRIPTION:\nIf you or someone you know are 65 and older\, live on Califor
 nia's Central Coast\, and are concerned about rising temperatures in our c
 ommunity\, we invite you to join us for our inaugural Extreme Heat Forum p
 resented by the Gray Panthers Santa Barbara Network\, Society of Fearless 
 Grandmothers Santa Barbara\, and the Community Environmental Council on Tu
 esday\, August 15\, from 5:00 - 7:00 PM. \n\nExtreme heat events are incr
 easing in the United States and the rest of the world. The UN Secretary Ge
 neral\, Antonio Guterres\, shared his deep concern over increasingly inten
 se and frequent heat waves by warning the public that\, "The era of global
  warming has ended\, the era of global boiling has arrived." It is crucial
  now more than ever to stay informed about extreme heat and learn how to s
 tay cool during these extreme events.\n\nThe forum will be offered in pers
 on (at our new Environmental Hub in downtown Santa Barbara) and live strea
 med via Zoom. Space is limited for the in-person option and an RSVP is req
 uired to attend (both in person and via Zoom).\n\nAbout this Forum\n\nDr. 
 David Lebell and Rich Appelbaum of the Gray Panthers Santa Barbara Network
 \, Pam Bury and Maureen Ellenberger of Society of Fearless Grandmothers Sa
 nta Barbara\, Yumi Sera\, Executive Director of the Governor's Office of C
 ommunity Partnerships and Strategic Communications\, and Em Johnson\, CEC'
 s Director of Climate Resilience will lead a discussion of the real and la
 sting impacts of heat and climate change on our elderly\, how seniors can 
 play a more active role in protecting our most vulnerable populations\, an
 d what actions are needed to ensure we not only support resiliency at the 
 neighborhood level\, but also at the policy level.
END:VEVENT
END:VCALENDAR