BEGIN:VCALENDAR
VERSION:2.0
PRODID:-//wp-events-plugin.com//7.2.3.1//EN
BEGIN:VEVENT
UID:21@sbgraypanthers.org
DTSTART:20230713T173000Z
DTEND:20230713T190000Z
DTSTAMP:20241115T023727Z
URL:https://www.sbgraypanthers.org/sbgpn-events/longevity-health-and-demen
 tia-the-good-the-bad-the-ugly/
SUMMARY:Longevity\, Health and Dementia: The Good\, The Bad & The Ugly
DESCRIPTION:\nJoin us in person or virtually for this conversation-style fo
 rum by Stan Frochtzwajg\, MD and David Lebell\, MD on an update on actions
  we can take to help improve longevity\, ways to slow or mitigate dementia
 \, and improve ‘health span’—not just a longer life but more good ye
 ars in which we are more physically and cognitively capable and engaged. O
 ver the last five years\, there has been considerable progress in the rese
 arch and our understanding of these topics. We will discuss many of the ey
 e-opening advances along with new insights into how known contributors to 
 longevity\, such as exercise\, can be more effectively applied. Dr. Frocht
 zwajg will describe how he is incorporating this growing body of research 
 into his family practice and finds himself focusing more of his time with 
 his patients talking about these accessible modifications to their lives\,
  which has the potential for a bigger impact on the patient’s health spa
 n than simply prescribing medication.
END:VEVENT
END:VCALENDAR