BEGIN:VCALENDAR
VERSION:2.0
PRODID:-//wp-events-plugin.com//7.2.3.1//EN
BEGIN:VEVENT
UID:23@sbgraypanthers.org
DTSTART:20230927T170000Z
DTEND:20230927T190000Z
DTSTAMP:20241115T023616Z
URL:https://www.sbgraypanthers.org/sbgpn-events/medicare-the-basics-the-th
 reats/
SUMMARY:Medicare: The Basics & The Threats
DESCRIPTION:\nMedicare has changed dramatically since its inception. What w
 as intended to be a government run health insurance program with broad ben
 efits for older adults has been allowed to be coopted by big insurance. Le
 arn more about what Medicare Advantage plans are and what they could becom
 e in the future without public intervention. Dr. Nancy Greep will be sound
 ing the alarms about Medicare Advantage and current plans in the House to 
 expand opportunities for private insurance. Julie Posada\, the Health Insu
 rance Counseling Advocacy (HICAP) representative will clarify insurance te
 rminology that can be confusing. 
END:VEVENT
END:VCALENDAR